BEGIN:VCALENDAR
VERSION:2.0
PRODID:-//Ueli Fisch - ECPv5.6.0//NONSGML v1.0//EN
CALSCALE:GREGORIAN
METHOD:PUBLISH
X-WR-CALNAME:Ueli Fisch
X-ORIGINAL-URL:https://www.uelifisch.ch
X-WR-CALDESC:Veranstaltungen für Ueli Fisch
BEGIN:VTIMEZONE
TZID:Europe/Zurich
BEGIN:DAYLIGHT
TZOFFSETFROM:+0100
TZOFFSETTO:+0200
TZNAME:CEST
DTSTART:20190331T010000
END:DAYLIGHT
BEGIN:STANDARD
TZOFFSETFROM:+0200
TZOFFSETTO:+0100
TZNAME:CET
DTSTART:20191027T010000
END:STANDARD
END:VTIMEZONE
BEGIN:VEVENT
DTSTART;TZID=Europe/Zurich:20190429T173000
DTEND;TZID=Europe/Zurich:20190429T200000
DTSTAMP:20231114T034021
CREATED:20190417T065544Z
LAST-MODIFIED:20190417T065544Z
UID:13145-1556559000-1556568000@www.uelifisch.ch
SUMMARY:Informationsveranstaltung zur AHV-Steuervorlage von Dialog Thurgau und Tagblatt
DESCRIPTION:Informationsveranstaltung über die AHV-Steuervorlage.  \n\nBundesrätin Karin Keller-Sutter\nAlt Nationalrat Peter Spuhler\, SVP/TG\nRegierungsrat Jakob Stark\, SVP\nNationalrätin Edith Graf-Litscher\, SP/TG\nAlt Nationalrätin Yvonne Gilli\, Grüne/SG\nKantonsrat Ueli Fisch\, GLP/TG\n\nStalder Rail AG\nErnst-Stadler-Strasse 1\n9565 Bussnang \nEintreffen/Empfang: 17.30 Uhr\nBeginn: 18.00 Uh \n\nAnmeldung erforderlich auf: http://www.dialogthurgau.ch/
URL:https://www.uelifisch.ch/agende/informationsveranstaltung-zur-ahv-steuervorlage-von-dialog-thurgau-und-tagblatt/
LOCATION:Stadler Rail AG\, Bussnang\, Bussnang\, 9565\, Schweiz
END:VEVENT
END:VCALENDAR