BEGIN:VCALENDAR
VERSION:2.0
PRODID:-//Ueli Fisch - ECPv5.6.0//NONSGML v1.0//EN
CALSCALE:GREGORIAN
METHOD:PUBLISH
X-WR-CALNAME:Ueli Fisch
X-ORIGINAL-URL:https://www.uelifisch.ch
X-WR-CALDESC:Veranstaltungen für Ueli Fisch
BEGIN:VTIMEZONE
TZID:Europe/Paris
BEGIN:DAYLIGHT
TZOFFSETFROM:+0100
TZOFFSETTO:+0200
TZNAME:CEST
DTSTART:20150329T010000
END:DAYLIGHT
BEGIN:STANDARD
TZOFFSETFROM:+0200
TZOFFSETTO:+0100
TZNAME:CET
DTSTART:20151025T010000
END:STANDARD
END:VTIMEZONE
BEGIN:VEVENT
DTSTART;TZID=Europe/Paris:20151219T093000
DTEND;TZID=Europe/Paris:20151219T120000
DTSTAMP:20231112T190606
CREATED:20151213T212011Z
LAST-MODIFIED:20151213T212011Z
UID:12258-1450517400-1450526400@www.uelifisch.ch
SUMMARY:Guetzli-Event in Münchwillen - Villa Sutter
DESCRIPTION:Zusammen mit den Grünliberalen des Bezirks Münchwilen backen wir Fisch-Guetzli für die Hinterthurgauer Bevölkerung. Ab 09.30 geht’s los in der Villa Sutter in Münchwilen. Jeder bringt seinen Mailänder-Teig mit und dann geht’s schon los mit Ausstechen und Backen der Guetzli. \nIch freue mich auf die Begegnungen und Gespräche mit der Bevölkerung in Münchwilen! \nPS: Wer noch nicht weiss\, wie man einen Mailänderli-Teig macht – hier die Anleitung (-:
URL:https://www.uelifisch.ch/agende/guetzli-event-in-muenchwillen-villa-sutter/
LOCATION:Villa Sutter\, Murgtalstrasse 2\, Münchwilen\, 9542\, Schweiz
END:VEVENT
END:VCALENDAR