BEGIN:VCALENDAR
VERSION:2.0
PRODID:-//Ueli Fisch - ECPv5.6.0//NONSGML v1.0//EN
CALSCALE:GREGORIAN
METHOD:PUBLISH
X-WR-CALNAME:Ueli Fisch
X-ORIGINAL-URL:https://www.uelifisch.ch
X-WR-CALDESC:Veranstaltungen für Ueli Fisch
BEGIN:VTIMEZONE
TZID:Europe/Zurich
BEGIN:DAYLIGHT
TZOFFSETFROM:+0100
TZOFFSETTO:+0200
TZNAME:CEST
DTSTART:20230326T010000
END:DAYLIGHT
BEGIN:STANDARD
TZOFFSETFROM:+0200
TZOFFSETTO:+0100
TZNAME:CET
DTSTART:20231029T010000
END:STANDARD
END:VTIMEZONE
BEGIN:VEVENT
DTSTART;TZID=Europe/Zurich:20230919T080000
DTEND;TZID=Europe/Zurich:20230919T200000
DTSTAMP:20231113T141509
CREATED:20230913T210303Z
LAST-MODIFIED:20230913T210303Z
UID:14934-1695110400-1695153600@www.uelifisch.ch
SUMMARY:#GLPonTour: Velotour quer durch den Thurgau - von  Aadorf nach Diessenhofen am 19.9.23
DESCRIPTION:#GLPonTour: Treffen Sie die Grünliberalen zum Apéro\nDiessenhofen\n\nDie Kandidierenden für die Nationalratsliste der GLP Thurgau und Ständeratskandidat Stefan Leuthold stehen der Bevölkerung für Gespräche zur Verfügung. Es wird ein Apéro offeriert. \nDie Kandidierenden der Grünliberalen Thurgau für die Nationalratswahlen und Ständeratskandidat Stefan Leuthold sind vom 18. bis zum 22. September mit dem Velo quer durch den Thurgau unterwegs. Sie stehen der Bevölkerung für Gespräche zur Verfügung und stellen sich und ihre Ziele vor. Der Anlass in Diessenhofen findet am 19.9.2023 um 18.30 Uhr beim Bahnhof Diessenhofen statt.
URL:https://www.uelifisch.ch/agende/glpontour-velotour-quer-durch-den-thurgau-von-aadorf-nach-diessenhofen-am-19-9-23/
LOCATION:Diessenhofen Stadtzentrum\, Diessenhofen\, 8253
ATTACH;FMTTYPE=image/jpeg:https://www.uelifisch.ch/wp-content/uploads/2023/09/GLPonTour_Facebook_190923.jpeg
END:VEVENT
END:VCALENDAR