BEGIN:VCALENDAR
VERSION:2.0
PRODID:-//Ueli Fisch - ECPv5.6.0//NONSGML v1.0//EN
CALSCALE:GREGORIAN
METHOD:PUBLISH
X-WR-CALNAME:Ueli Fisch
X-ORIGINAL-URL:https://www.uelifisch.ch
X-WR-CALDESC:Veranstaltungen für Ueli Fisch
BEGIN:VTIMEZONE
TZID:Europe/Zurich
BEGIN:DAYLIGHT
TZOFFSETFROM:+0100
TZOFFSETTO:+0200
TZNAME:CEST
DTSTART:20230326T010000
END:DAYLIGHT
BEGIN:STANDARD
TZOFFSETFROM:+0200
TZOFFSETTO:+0100
TZNAME:CET
DTSTART:20231029T010000
END:STANDARD
END:VTIMEZONE
BEGIN:VEVENT
DTSTART;TZID=Europe/Zurich:20230916T090000
DTEND;TZID=Europe/Zurich:20230916T123000
DTSTAMP:20260420T100221
CREATED:20230913T205341Z
LAST-MODIFIED:20230913T205341Z
UID:14916-1694854800-1694867400@www.uelifisch.ch
SUMMARY:GLP Standaktion Kreuzlingen
DESCRIPTION:Am Samstag 16. September trifft man mich und die Grünliberalen in Kreuzlingen vor dem Karussell von 09.00 – ca. Mittags 12.00 Uhr. Die Kandidierenden der verschiedenen GLP-Listen freuen sich auf regen Besuch und viele spannende Gespräche.
URL:https://www.uelifisch.ch/agende/glp-standaktion-kreuzlingen/
LOCATION:Karussell Kreuzlingen\, Sonnenstrasse 16\, Kreuzlingen\, 8280
ATTACH;FMTTYPE=image/jpeg:https://www.uelifisch.ch/wp-content/uploads/2023/09/Flyer-RS_Liste16_klein.jpg
END:VEVENT
END:VCALENDAR