BEGIN:VCALENDAR
VERSION:2.0
PRODID:-//Ueli Fisch - ECPv5.6.0//NONSGML v1.0//EN
CALSCALE:GREGORIAN
METHOD:PUBLISH
X-WR-CALNAME:Ueli Fisch
X-ORIGINAL-URL:https://www.uelifisch.ch
X-WR-CALDESC:Veranstaltungen für Ueli Fisch
BEGIN:VTIMEZONE
TZID:Europe/Zurich
BEGIN:DAYLIGHT
TZOFFSETFROM:+0100
TZOFFSETTO:+0200
TZNAME:CEST
DTSTART:20220327T010000
END:DAYLIGHT
BEGIN:STANDARD
TZOFFSETFROM:+0200
TZOFFSETTO:+0100
TZNAME:CET
DTSTART:20221030T010000
END:STANDARD
END:VTIMEZONE
BEGIN:VEVENT
DTSTART;TZID=Europe/Zurich:20220610T180000
DTEND;TZID=Europe/Zurich:20220610T230000
DTSTAMP:20231113T223730
CREATED:20220516T201229Z
LAST-MODIFIED:20220516T201229Z
UID:14339-1654884000-1654902000@www.uelifisch.ch
SUMMARY:GLP Bezirk Weinfelden - Mitgliederversammlung 2022
DESCRIPTION:Mitliederversammlung bei Kurt Schöni\, Märwil
URL:https://www.uelifisch.ch/agende/glp-bezirk-weinfelden-mitgliederversammlung-2022/
LOCATION:Breite Märwil\, Kurt Schöni\, Breite\, Märwil\, 9562\, Schweiz
END:VEVENT
END:VCALENDAR