BEGIN:VCALENDAR
VERSION:2.0
PRODID:-//Ueli Fisch - ECPv5.6.0//NONSGML v1.0//EN
CALSCALE:GREGORIAN
METHOD:PUBLISH
X-WR-CALNAME:Ueli Fisch
X-ORIGINAL-URL:https://www.uelifisch.ch
X-WR-CALDESC:Veranstaltungen für Ueli Fisch
BEGIN:VTIMEZONE
TZID:Europe/Zurich
BEGIN:DAYLIGHT
TZOFFSETFROM:+0100
TZOFFSETTO:+0200
TZNAME:CEST
DTSTART:20220327T010000
END:DAYLIGHT
BEGIN:STANDARD
TZOFFSETFROM:+0200
TZOFFSETTO:+0100
TZNAME:CET
DTSTART:20221030T010000
END:STANDARD
END:VTIMEZONE
BEGIN:VEVENT
DTSTART;TZID=Europe/Zurich:20220830T070000
DTEND;TZID=Europe/Zurich:20220830T090000
DTSTAMP:20231113T224843
CREATED:20220828T191218Z
LAST-MODIFIED:20220828T191218Z
UID:14474-1661842800-1661850000@www.uelifisch.ch
SUMMARY:Gewerbeverein Weinfelden: Vorstellung Kandidaten Stadtpräsidium
DESCRIPTION:Morgenevent des Gewerbevereins Weinfelden und Umgebung \n07.00 – 07.15 Kandidaten stellen sich vor \n07.15 – 08.30 Fragerunde Moderator\, Fragen der Teilnehmenden \n08.30 – 09.00 Kaffee und Gipfeli
URL:https://www.uelifisch.ch/agende/gewerbeverein-weinfelden-vorstellung-kandidaten-stadtpraesidium/
LOCATION:Raiffeisenbank Mittelthurgau\, Bahnhofstrasse 12\, Weinfelden
END:VEVENT
END:VCALENDAR