BEGIN:VCALENDAR
VERSION:2.0
PRODID:-//Ueli Fisch - ECPv5.6.0//NONSGML v1.0//EN
CALSCALE:GREGORIAN
METHOD:PUBLISH
X-WR-CALNAME:Ueli Fisch
X-ORIGINAL-URL:https://www.uelifisch.ch
X-WR-CALDESC:Veranstaltungen für Ueli Fisch
BEGIN:VTIMEZONE
TZID:Europe/Zurich
BEGIN:DAYLIGHT
TZOFFSETFROM:+0100
TZOFFSETTO:+0200
TZNAME:CEST
DTSTART:20220327T010000
END:DAYLIGHT
BEGIN:STANDARD
TZOFFSETFROM:+0200
TZOFFSETTO:+0100
TZNAME:CET
DTSTART:20221030T010000
END:STANDARD
END:VTIMEZONE
BEGIN:VEVENT
DTSTART;TZID=Europe/Zurich:20220827T060000
DTEND;TZID=Europe/Zurich:20220827T160000
DTSTAMP:20231113T224258
CREATED:20220516T201633Z
LAST-MODIFIED:20220516T201633Z
UID:14341-1661580000-1661616000@www.uelifisch.ch
SUMMARY:Flohmarkt Weinfelden | Stand der GLP Weinfelden
DESCRIPTION:Auch dieses Jahr führen wir unsere jährliche Tradition weiter und nehmen am Flohmarkt in Weinfelden teil. Unser Standchef Marcel Preiss hat noch viele Trouvaillen auf Lager. Auch Ihr alle seid gebeten\, Gegenstände\, die sich für den Flohmarkt eignen beizusteuern. Durchstöbert Euren Keller und Euren Estrich. Die Einnahmen finanzieren unsere kommenden Wahlkämpfe.
URL:https://www.uelifisch.ch/agende/flohmarkt-weinfelden-stand-der-glp-weinfelden/
LOCATION:Weinfelden Marktplatz
END:VEVENT
END:VCALENDAR