BEGIN:VCALENDAR
VERSION:2.0
PRODID:-//Ueli Fisch - ECPv5.6.0//NONSGML v1.0//EN
CALSCALE:GREGORIAN
METHOD:PUBLISH
X-WR-CALNAME:Ueli Fisch
X-ORIGINAL-URL:https://www.uelifisch.ch
X-WR-CALDESC:Veranstaltungen für Ueli Fisch
BEGIN:VTIMEZONE
TZID:Europe/Zurich
BEGIN:DAYLIGHT
TZOFFSETFROM:+0100
TZOFFSETTO:+0200
TZNAME:CEST
DTSTART:20230326T010000
END:DAYLIGHT
BEGIN:STANDARD
TZOFFSETFROM:+0200
TZOFFSETTO:+0100
TZNAME:CET
DTSTART:20231029T010000
END:STANDARD
END:VTIMEZONE
BEGIN:VEVENT
DTSTART;TZID=Europe/Zurich:20230826T070000
DTEND;TZID=Europe/Zurich:20230826T160000
DTSTAMP:20231113T172855
CREATED:20230625T124340Z
LAST-MODIFIED:20230625T124340Z
UID:14826-1693033200-1693065600@www.uelifisch.ch
SUMMARY:Flohmarkt Weinfelden mit Stand GLP Bezirk Weinfelden
DESCRIPTION:Traditionell verkaufen die Mitglieder der GLP Bezirk Weinfelden an ihrem Flohmarktstand Allerlei Antikes und Rares und bessern so die Parteikasse auf. Wir nutzen den Flohmarkt auch\, um Kandidatinnen und Kandidaten für die Nationalratswahlen die Möglichkeit zu geben\, interessierten Mitbürgerinnen und Mitbürgern Rede und Antwort zu stehen. Ich freue mich auf einen tollen Tag mit vielen Verkäufen und anregenden Gesprächen. Ich werde den ganzen Tag am Stand präsent sein.
URL:https://www.uelifisch.ch/agende/flohmarkt-weinfelden-mit-stand-glp-bezirk-weinfelden/
LOCATION:Flohmarkt Weinfelden\, Marktplatz\, Weinfelden \, 8570\, Schweiz
END:VEVENT
END:VCALENDAR