BEGIN:VCALENDAR
VERSION:2.0
PRODID:-//Ueli Fisch - ECPv5.6.0//NONSGML v1.0//EN
CALSCALE:GREGORIAN
METHOD:PUBLISH
X-WR-CALNAME:Ueli Fisch
X-ORIGINAL-URL:https://www.uelifisch.ch
X-WR-CALDESC:Veranstaltungen für Ueli Fisch
BEGIN:VTIMEZONE
TZID:Europe/Zurich
BEGIN:DAYLIGHT
TZOFFSETFROM:+0100
TZOFFSETTO:+0200
TZNAME:CEST
DTSTART:20190331T010000
END:DAYLIGHT
BEGIN:STANDARD
TZOFFSETFROM:+0200
TZOFFSETTO:+0100
TZNAME:CET
DTSTART:20191027T010000
END:STANDARD
END:VTIMEZONE
BEGIN:VEVENT
DTSTART;TZID=Europe/Zurich:20190719T080000
DTEND;TZID=Europe/Zurich:20190804T180000
DTSTAMP:20260420T100035
CREATED:20190718T155612Z
LAST-MODIFIED:20190718T155612Z
UID:13418-1563523200-1564941600@www.uelifisch.ch
SUMMARY:Ferien - juhui
DESCRIPTION:Vom 19. Juli bis 4. August geniesse ich Ferien und tanke Energie bevor der Wahlkampf dann so richtig losgeht. E-Mail werden aber trotzdem beantwortet.
URL:https://www.uelifisch.ch/agende/ferien-juhui/
END:VEVENT
END:VCALENDAR